BEGIN:VCALENDAR
VERSION:2.0
PRODID:-//HSG Forchheim - ECPv6.15.13//NONSGML v1.0//EN
CALSCALE:GREGORIAN
METHOD:PUBLISH
X-WR-CALNAME:HSG Forchheim
X-ORIGINAL-URL:https://hsg-forchheim.de
X-WR-CALDESC:Veranstaltungen für HSG Forchheim
REFRESH-INTERVAL;VALUE=DURATION:PT1H
X-Robots-Tag:noindex
X-PUBLISHED-TTL:PT1H
BEGIN:VTIMEZONE
TZID:Europe/Berlin
BEGIN:DAYLIGHT
TZOFFSETFROM:+0100
TZOFFSETTO:+0200
TZNAME:CEST
DTSTART:20250330T010000
END:DAYLIGHT
BEGIN:STANDARD
TZOFFSETFROM:+0200
TZOFFSETTO:+0100
TZNAME:CET
DTSTART:20251026T010000
END:STANDARD
BEGIN:DAYLIGHT
TZOFFSETFROM:+0100
TZOFFSETTO:+0200
TZNAME:CEST
DTSTART:20260329T010000
END:DAYLIGHT
BEGIN:STANDARD
TZOFFSETFROM:+0200
TZOFFSETTO:+0100
TZNAME:CET
DTSTART:20261025T010000
END:STANDARD
BEGIN:DAYLIGHT
TZOFFSETFROM:+0100
TZOFFSETTO:+0200
TZNAME:CEST
DTSTART:20270328T010000
END:DAYLIGHT
BEGIN:STANDARD
TZOFFSETFROM:+0200
TZOFFSETTO:+0100
TZNAME:CET
DTSTART:20271031T010000
END:STANDARD
END:VTIMEZONE
BEGIN:VEVENT
DTSTART;TZID=Europe/Berlin:20260625T180000
DTEND;TZID=Europe/Berlin:20260625T200000
DTSTAMP:20260423T134638
CREATED:20260208T105130Z
LAST-MODIFIED:20260208T105130Z
UID:1868-1782410400-1782417600@hsg-forchheim.de
SUMMARY:Neuschützentraining
DESCRIPTION:
URL:https://hsg-forchheim.de/termin/neuschuetzentraining-25/
CATEGORIES:Schießtraining
END:VEVENT
BEGIN:VEVENT
DTSTART;VALUE=DATE:20260626
DTEND;VALUE=DATE:20260627
DTSTAMP:20260423T134638
CREATED:20260208T105130Z
LAST-MODIFIED:20260208T105130Z
UID:1869-1782432000-1782518399@hsg-forchheim.de
SUMMARY:Tell Schützen
DESCRIPTION:
URL:https://hsg-forchheim.de/termin/tell-schuetzen-62/
CATEGORIES:Extern
END:VEVENT
BEGIN:VEVENT
DTSTART;TZID=Europe/Berlin:20260627T150000
DTEND;TZID=Europe/Berlin:20260627T210000
DTSTAMP:20260423T134638
CREATED:20260414T174311Z
LAST-MODIFIED:20260414T174311Z
UID:1970-1782572400-1782594000@hsg-forchheim.de
SUMMARY:Schützenfest Pößneck
DESCRIPTION:Werte Schützenschwestern und Schützenbrüder der HSG Forchheim\, \nwir möchten Euch am 27.06.2026 zu unserem diesjährigen Schützenfest nach Pößneck einladen. \nBeginn ist geplant für 15:00 Uhr mit dem traditionellen Anböllern\, Hier würden wir uns freuen\, wenn Ihr daran teilnehmen könntet. Danach feiern wir bei hoffentlich bestem Wetter auf unserer Festwiese vorm Schützenheim ein tolles Fest. Es wird ein Pokalschießen mit Luftgewehr geben\, sowie unser Vogelschießen mit der Armbrust.\nAm Abend werden wir den Schützenkönig und die Königin bekannt geben und Ehren und danach bei musikalischer Begleitung und einem guten Tropfen den Tag ausklingen lassen.\nUm unsere Vereins/ Städtepartnerschaft wieder ein wenig zu beleben würden wir uns über Eure Zusage freuen.\nDie hoffentlich positive Meldung könnt Ihr mir unter der angegebenen Email oder unter meiner Tel.Nr.    01742008750 durchgeben. \nWir selbst beabsichtigen am 25.07.2026 mit Teilen unseres Schützenverein und Teilen der Freiwilligen Feuerwehr wieder an Eurem Annafest teilzunehmen. \nMit freundlichen Grüßen \nKevin Rham\nVorstandsmitglied\n1. Privilegierter Schützenverein Pößneck
URL:https://hsg-forchheim.de/termin/schuetzenfest-poessneck/
CATEGORIES:Sonstige Veranstaltung
END:VEVENT
BEGIN:VEVENT
DTSTART;TZID=Europe/Berlin:20260628T080000
DTEND;TZID=Europe/Berlin:20260628T110000
DTSTAMP:20260423T134638
CREATED:20260208T105131Z
LAST-MODIFIED:20260208T105131Z
UID:1870-1782633600-1782644400@hsg-forchheim.de
SUMMARY:Schießtraining
DESCRIPTION:
URL:https://hsg-forchheim.de/termin/schiesstraining-180/
CATEGORIES:Schießtraining
END:VEVENT
BEGIN:VEVENT
DTSTART;VALUE=DATE:20260629
DTEND;VALUE=DATE:20260630
DTSTAMP:20260423T134638
CREATED:20260208T105330Z
LAST-MODIFIED:20260208T105330Z
UID:1871-1782691200-1782777599@hsg-forchheim.de
SUMMARY:GUNBOYZ
DESCRIPTION:
URL:https://hsg-forchheim.de/termin/gunboyz-65/
CATEGORIES:Extern
END:VEVENT
BEGIN:VEVENT
DTSTART;VALUE=DATE:20260630
DTEND;VALUE=DATE:20260701
DTSTAMP:20260423T134638
CREATED:20260208T105331Z
LAST-MODIFIED:20260208T105331Z
UID:1872-1782777600-1782863999@hsg-forchheim.de
SUMMARY:Guns ’n’ Rifles
DESCRIPTION:
URL:https://hsg-forchheim.de/termin/guns-n-rifles-66/
CATEGORIES:Extern
END:VEVENT
BEGIN:VEVENT
DTSTART;TZID=Europe/Berlin:20260701T180000
DTEND;TZID=Europe/Berlin:20260701T200000
DTSTAMP:20260423T134638
CREATED:20260208T105331Z
LAST-MODIFIED:20260208T105331Z
UID:1873-1782928800-1782936000@hsg-forchheim.de
SUMMARY:Schießtraining
DESCRIPTION:
URL:https://hsg-forchheim.de/termin/schiesstraining-181/
CATEGORIES:Schießtraining
END:VEVENT
BEGIN:VEVENT
DTSTART;TZID=Europe/Berlin:20260702T180000
DTEND;TZID=Europe/Berlin:20260702T200000
DTSTAMP:20260423T134638
CREATED:20260208T105331Z
LAST-MODIFIED:20260208T105331Z
UID:1874-1783015200-1783022400@hsg-forchheim.de
SUMMARY:Neuschützentraining
DESCRIPTION:
URL:https://hsg-forchheim.de/termin/neuschuetzentraining-26/
CATEGORIES:Schießtraining
END:VEVENT
BEGIN:VEVENT
DTSTART;VALUE=DATE:20260703
DTEND;VALUE=DATE:20260704
DTSTAMP:20260423T134638
CREATED:20260208T105332Z
LAST-MODIFIED:20260208T105332Z
UID:1875-1783036800-1783123199@hsg-forchheim.de
SUMMARY:Tell Schützen
DESCRIPTION:
URL:https://hsg-forchheim.de/termin/tell-schuetzen-63/
CATEGORIES:Extern
END:VEVENT
BEGIN:VEVENT
DTSTART;VALUE=DATE:20260704
DTEND;VALUE=DATE:20260705
DTSTAMP:20260423T134638
CREATED:20260208T112623Z
LAST-MODIFIED:20260208T112623Z
UID:1876-1783123200-1783209599@hsg-forchheim.de
SUMMARY:Arbeitsdienst
DESCRIPTION:
URL:https://hsg-forchheim.de/termin/arbeitsdienst-15/
CATEGORIES:Arbeitsdienst
END:VEVENT
BEGIN:VEVENT
DTSTART;TZID=Europe/Berlin:20260705T080000
DTEND;TZID=Europe/Berlin:20260705T110000
DTSTAMP:20260423T134638
CREATED:20260208T112623Z
LAST-MODIFIED:20260208T112623Z
UID:1877-1783238400-1783249200@hsg-forchheim.de
SUMMARY:Schießtraining
DESCRIPTION:
URL:https://hsg-forchheim.de/termin/schiesstraining-182/
CATEGORIES:Schießtraining
END:VEVENT
BEGIN:VEVENT
DTSTART;VALUE=DATE:20260706
DTEND;VALUE=DATE:20260707
DTSTAMP:20260423T134638
CREATED:20260208T112624Z
LAST-MODIFIED:20260208T112624Z
UID:1878-1783296000-1783382399@hsg-forchheim.de
SUMMARY:GUNBOYZ
DESCRIPTION:
URL:https://hsg-forchheim.de/termin/gunboyz-66/
CATEGORIES:Extern
END:VEVENT
BEGIN:VEVENT
DTSTART;VALUE=DATE:20260707
DTEND;VALUE=DATE:20260708
DTSTAMP:20260423T134638
CREATED:20260208T112624Z
LAST-MODIFIED:20260208T112624Z
UID:1879-1783382400-1783468799@hsg-forchheim.de
SUMMARY:Guns ’n’ Rifles
DESCRIPTION:
URL:https://hsg-forchheim.de/termin/guns-n-rifles-67/
CATEGORIES:Extern
END:VEVENT
BEGIN:VEVENT
DTSTART;TZID=Europe/Berlin:20260708T180000
DTEND;TZID=Europe/Berlin:20260708T200000
DTSTAMP:20260423T134638
CREATED:20260208T112624Z
LAST-MODIFIED:20260208T112624Z
UID:1880-1783533600-1783540800@hsg-forchheim.de
SUMMARY:Schießtraining
DESCRIPTION:
URL:https://hsg-forchheim.de/termin/schiesstraining-183/
CATEGORIES:Schießtraining
END:VEVENT
BEGIN:VEVENT
DTSTART;TZID=Europe/Berlin:20260709T180000
DTEND;TZID=Europe/Berlin:20260709T200000
DTSTAMP:20260423T134638
CREATED:20260208T112638Z
LAST-MODIFIED:20260208T112638Z
UID:1881-1783620000-1783627200@hsg-forchheim.de
SUMMARY:Neuschützentraining
DESCRIPTION:
URL:https://hsg-forchheim.de/termin/neuschuetzentraining-27/
CATEGORIES:Schießtraining
END:VEVENT
BEGIN:VEVENT
DTSTART;VALUE=DATE:20260710
DTEND;VALUE=DATE:20260711
DTSTAMP:20260423T134638
CREATED:20260208T112638Z
LAST-MODIFIED:20260208T112638Z
UID:1882-1783641600-1783727999@hsg-forchheim.de
SUMMARY:Tell Schützen
DESCRIPTION:
URL:https://hsg-forchheim.de/termin/tell-schuetzen-64/
CATEGORIES:Extern
END:VEVENT
BEGIN:VEVENT
DTSTART;TZID=Europe/Berlin:20260712T080000
DTEND;TZID=Europe/Berlin:20260712T110000
DTSTAMP:20260423T134638
CREATED:20260208T112638Z
LAST-MODIFIED:20260208T112638Z
UID:1883-1783843200-1783854000@hsg-forchheim.de
SUMMARY:Schießtraining
DESCRIPTION:
URL:https://hsg-forchheim.de/termin/schiesstraining-184/
CATEGORIES:Schießtraining
END:VEVENT
BEGIN:VEVENT
DTSTART;VALUE=DATE:20260713
DTEND;VALUE=DATE:20260714
DTSTAMP:20260423T134638
CREATED:20260208T112639Z
LAST-MODIFIED:20260208T112639Z
UID:1884-1783900800-1783987199@hsg-forchheim.de
SUMMARY:GUNBOYZ
DESCRIPTION:
URL:https://hsg-forchheim.de/termin/gunboyz-67/
CATEGORIES:Extern
END:VEVENT
BEGIN:VEVENT
DTSTART;VALUE=DATE:20260714
DTEND;VALUE=DATE:20260715
DTSTAMP:20260423T134638
CREATED:20260208T112639Z
LAST-MODIFIED:20260208T112639Z
UID:1885-1783987200-1784073599@hsg-forchheim.de
SUMMARY:Guns ’n’ Rifles
DESCRIPTION:
URL:https://hsg-forchheim.de/termin/guns-n-rifles-68/
CATEGORIES:Extern
END:VEVENT
BEGIN:VEVENT
DTSTART;TZID=Europe/Berlin:20260715T180000
DTEND;TZID=Europe/Berlin:20260715T200000
DTSTAMP:20260423T134638
CREATED:20260208T112653Z
LAST-MODIFIED:20260208T112653Z
UID:1886-1784138400-1784145600@hsg-forchheim.de
SUMMARY:Schießtraining
DESCRIPTION:
URL:https://hsg-forchheim.de/termin/schiesstraining-185/
CATEGORIES:Schießtraining
END:VEVENT
BEGIN:VEVENT
DTSTART;TZID=Europe/Berlin:20260716T180000
DTEND;TZID=Europe/Berlin:20260716T200000
DTSTAMP:20260423T134638
CREATED:20260208T112654Z
LAST-MODIFIED:20260208T112654Z
UID:1887-1784224800-1784232000@hsg-forchheim.de
SUMMARY:Neuschützentraining
DESCRIPTION:
URL:https://hsg-forchheim.de/termin/neuschuetzentraining-28/
CATEGORIES:Schießtraining
END:VEVENT
BEGIN:VEVENT
DTSTART;VALUE=DATE:20260717
DTEND;VALUE=DATE:20260811
DTSTAMP:20260423T134638
CREATED:20260208T131902Z
LAST-MODIFIED:20260208T131902Z
UID:1926-1784246400-1786406399@hsg-forchheim.de
SUMMARY:Annafest
DESCRIPTION:KEIN SCHIEßBETRIEB
URL:https://hsg-forchheim.de/termin/annafest/
END:VEVENT
BEGIN:VEVENT
DTSTART;VALUE=DATE:20260811
DTEND;VALUE=DATE:20260812
DTSTAMP:20260423T134638
CREATED:20260208T112654Z
LAST-MODIFIED:20260208T112654Z
UID:1888-1786406400-1786492799@hsg-forchheim.de
SUMMARY:Guns ’n’ Rifles
DESCRIPTION:
URL:https://hsg-forchheim.de/termin/guns-n-rifles-69/
CATEGORIES:Extern
END:VEVENT
BEGIN:VEVENT
DTSTART;TZID=Europe/Berlin:20260812T180000
DTEND;TZID=Europe/Berlin:20260812T200000
DTSTAMP:20260423T134638
CREATED:20260208T112654Z
LAST-MODIFIED:20260208T112654Z
UID:1889-1786557600-1786564800@hsg-forchheim.de
SUMMARY:Schießtraining
DESCRIPTION:
URL:https://hsg-forchheim.de/termin/schiesstraining-186/
CATEGORIES:Schießtraining
END:VEVENT
BEGIN:VEVENT
DTSTART;TZID=Europe/Berlin:20260813T180000
DTEND;TZID=Europe/Berlin:20260813T200000
DTSTAMP:20260423T134638
CREATED:20260208T112655Z
LAST-MODIFIED:20260208T112655Z
UID:1890-1786644000-1786651200@hsg-forchheim.de
SUMMARY:Neuschützentraining
DESCRIPTION:
URL:https://hsg-forchheim.de/termin/neuschuetzentraining-29/
CATEGORIES:Schießtraining
END:VEVENT
BEGIN:VEVENT
DTSTART;VALUE=DATE:20260814
DTEND;VALUE=DATE:20260815
DTSTAMP:20260423T134638
CREATED:20260208T112854Z
LAST-MODIFIED:20260208T112854Z
UID:1891-1786665600-1786751999@hsg-forchheim.de
SUMMARY:Tell Schützen
DESCRIPTION:
URL:https://hsg-forchheim.de/termin/tell-schuetzen-65/
CATEGORIES:Extern
END:VEVENT
BEGIN:VEVENT
DTSTART;TZID=Europe/Berlin:20260816T080000
DTEND;TZID=Europe/Berlin:20260816T110000
DTSTAMP:20260423T134638
CREATED:20260208T112855Z
LAST-MODIFIED:20260208T112855Z
UID:1892-1786867200-1786878000@hsg-forchheim.de
SUMMARY:Schießtraining
DESCRIPTION:
URL:https://hsg-forchheim.de/termin/schiesstraining-187/
CATEGORIES:Schießtraining
END:VEVENT
BEGIN:VEVENT
DTSTART;VALUE=DATE:20260817
DTEND;VALUE=DATE:20260818
DTSTAMP:20260423T134638
CREATED:20260208T112855Z
LAST-MODIFIED:20260208T112855Z
UID:1893-1786924800-1787011199@hsg-forchheim.de
SUMMARY:GUNBOYZ
DESCRIPTION:
URL:https://hsg-forchheim.de/termin/gunboyz-68/
CATEGORIES:Extern
END:VEVENT
BEGIN:VEVENT
DTSTART;VALUE=DATE:20260818
DTEND;VALUE=DATE:20260819
DTSTAMP:20260423T134638
CREATED:20260208T112855Z
LAST-MODIFIED:20260208T112855Z
UID:1894-1787011200-1787097599@hsg-forchheim.de
SUMMARY:Guns ’n’ Rifles
DESCRIPTION:
URL:https://hsg-forchheim.de/termin/guns-n-rifles-70/
CATEGORIES:Extern
END:VEVENT
BEGIN:VEVENT
DTSTART;TZID=Europe/Berlin:20260819T180000
DTEND;TZID=Europe/Berlin:20260819T200000
DTSTAMP:20260423T134638
CREATED:20260208T112856Z
LAST-MODIFIED:20260208T112856Z
UID:1895-1787162400-1787169600@hsg-forchheim.de
SUMMARY:Schießtraining
DESCRIPTION:
URL:https://hsg-forchheim.de/termin/schiesstraining-188/
CATEGORIES:Schießtraining
END:VEVENT
END:VCALENDAR