BEGIN:VCALENDAR
VERSION:2.0
PRODID:-//HSG Forchheim - ECPv6.15.13//NONSGML v1.0//EN
CALSCALE:GREGORIAN
METHOD:PUBLISH
X-WR-CALNAME:HSG Forchheim
X-ORIGINAL-URL:https://hsg-forchheim.de
X-WR-CALDESC:Veranstaltungen für HSG Forchheim
REFRESH-INTERVAL;VALUE=DURATION:PT1H
X-Robots-Tag:noindex
X-PUBLISHED-TTL:PT1H
BEGIN:VTIMEZONE
TZID:Europe/Berlin
BEGIN:DAYLIGHT
TZOFFSETFROM:+0100
TZOFFSETTO:+0200
TZNAME:CEST
DTSTART:20250330T010000
END:DAYLIGHT
BEGIN:STANDARD
TZOFFSETFROM:+0200
TZOFFSETTO:+0100
TZNAME:CET
DTSTART:20251026T010000
END:STANDARD
BEGIN:DAYLIGHT
TZOFFSETFROM:+0100
TZOFFSETTO:+0200
TZNAME:CEST
DTSTART:20260329T010000
END:DAYLIGHT
BEGIN:STANDARD
TZOFFSETFROM:+0200
TZOFFSETTO:+0100
TZNAME:CET
DTSTART:20261025T010000
END:STANDARD
BEGIN:DAYLIGHT
TZOFFSETFROM:+0100
TZOFFSETTO:+0200
TZNAME:CEST
DTSTART:20270328T010000
END:DAYLIGHT
BEGIN:STANDARD
TZOFFSETFROM:+0200
TZOFFSETTO:+0100
TZNAME:CET
DTSTART:20271031T010000
END:STANDARD
END:VTIMEZONE
BEGIN:VEVENT
DTSTART;TZID=Europe/Berlin:20260514T180000
DTEND;TZID=Europe/Berlin:20260514T200000
DTSTAMP:20260421T104835
CREATED:20260208T103919Z
LAST-MODIFIED:20260208T103919Z
UID:1831-1778781600-1778788800@hsg-forchheim.de
SUMMARY:Neuschützentraining
DESCRIPTION:
URL:https://hsg-forchheim.de/termin/neuschuetzentraining-19/
CATEGORIES:Schießtraining
END:VEVENT
BEGIN:VEVENT
DTSTART;VALUE=DATE:20260515
DTEND;VALUE=DATE:20260516
DTSTAMP:20260421T104835
CREATED:20260208T103920Z
LAST-MODIFIED:20260208T103920Z
UID:1832-1778803200-1778889599@hsg-forchheim.de
SUMMARY:Tell Schützen
DESCRIPTION:
URL:https://hsg-forchheim.de/termin/tell-schuetzen-56/
CATEGORIES:Extern
END:VEVENT
BEGIN:VEVENT
DTSTART;TZID=Europe/Berlin:20260517T080000
DTEND;TZID=Europe/Berlin:20260517T110000
DTSTAMP:20260421T104835
CREATED:20260208T103920Z
LAST-MODIFIED:20260208T103920Z
UID:1833-1779004800-1779015600@hsg-forchheim.de
SUMMARY:Schießtraining
DESCRIPTION:
URL:https://hsg-forchheim.de/termin/schiesstraining-168/
CATEGORIES:Schießtraining
END:VEVENT
BEGIN:VEVENT
DTSTART;VALUE=DATE:20260518
DTEND;VALUE=DATE:20260519
DTSTAMP:20260421T104835
CREATED:20260208T103920Z
LAST-MODIFIED:20260208T103920Z
UID:1834-1779062400-1779148799@hsg-forchheim.de
SUMMARY:GUNBOYZ
DESCRIPTION:
URL:https://hsg-forchheim.de/termin/gunboyz-59/
CATEGORIES:Extern
END:VEVENT
BEGIN:VEVENT
DTSTART;VALUE=DATE:20260519
DTEND;VALUE=DATE:20260520
DTSTAMP:20260421T104835
CREATED:20260208T103921Z
LAST-MODIFIED:20260208T103921Z
UID:1835-1779148800-1779235199@hsg-forchheim.de
SUMMARY:Guns ’n’ Rifles
DESCRIPTION:
URL:https://hsg-forchheim.de/termin/guns-n-rifles-60/
CATEGORIES:Extern
END:VEVENT
BEGIN:VEVENT
DTSTART;TZID=Europe/Berlin:20260520T180000
DTEND;TZID=Europe/Berlin:20260520T200000
DTSTAMP:20260421T104835
CREATED:20260208T104120Z
LAST-MODIFIED:20260208T104120Z
UID:1836-1779300000-1779307200@hsg-forchheim.de
SUMMARY:Schießtraining
DESCRIPTION:
URL:https://hsg-forchheim.de/termin/schiesstraining-169/
CATEGORIES:Schießtraining
END:VEVENT
BEGIN:VEVENT
DTSTART;TZID=Europe/Berlin:20260521T180000
DTEND;TZID=Europe/Berlin:20260521T200000
DTSTAMP:20260421T104835
CREATED:20260208T104121Z
LAST-MODIFIED:20260208T104121Z
UID:1837-1779386400-1779393600@hsg-forchheim.de
SUMMARY:Neuschützentraining
DESCRIPTION:
URL:https://hsg-forchheim.de/termin/neuschuetzentraining-20/
CATEGORIES:Schießtraining
END:VEVENT
BEGIN:VEVENT
DTSTART;VALUE=DATE:20260522
DTEND;VALUE=DATE:20260523
DTSTAMP:20260421T104835
CREATED:20260208T104121Z
LAST-MODIFIED:20260208T104121Z
UID:1838-1779408000-1779494399@hsg-forchheim.de
SUMMARY:Tell Schützen
DESCRIPTION:
URL:https://hsg-forchheim.de/termin/tell-schuetzen-57/
CATEGORIES:Extern
END:VEVENT
BEGIN:VEVENT
DTSTART;TZID=Europe/Berlin:20260524T080000
DTEND;TZID=Europe/Berlin:20260524T110000
DTSTAMP:20260421T104835
CREATED:20260208T104121Z
LAST-MODIFIED:20260208T104121Z
UID:1839-1779609600-1779620400@hsg-forchheim.de
SUMMARY:Schießtraining
DESCRIPTION:
URL:https://hsg-forchheim.de/termin/schiesstraining-170/
CATEGORIES:Schießtraining
END:VEVENT
BEGIN:VEVENT
DTSTART;VALUE=DATE:20260525
DTEND;VALUE=DATE:20260526
DTSTAMP:20260421T104835
CREATED:20260208T104122Z
LAST-MODIFIED:20260208T104122Z
UID:1840-1779667200-1779753599@hsg-forchheim.de
SUMMARY:GUNBOYZ
DESCRIPTION:
URL:https://hsg-forchheim.de/termin/gunboyz-60/
CATEGORIES:Extern
END:VEVENT
BEGIN:VEVENT
DTSTART;VALUE=DATE:20260526
DTEND;VALUE=DATE:20260527
DTSTAMP:20260421T104835
CREATED:20260208T104310Z
LAST-MODIFIED:20260208T104310Z
UID:1841-1779753600-1779839999@hsg-forchheim.de
SUMMARY:Guns ’n’ Rifles
DESCRIPTION:
URL:https://hsg-forchheim.de/termin/guns-n-rifles-61/
CATEGORIES:Extern
END:VEVENT
BEGIN:VEVENT
DTSTART;TZID=Europe/Berlin:20260527T180000
DTEND;TZID=Europe/Berlin:20260527T200000
DTSTAMP:20260421T104835
CREATED:20260208T104310Z
LAST-MODIFIED:20260208T104310Z
UID:1842-1779904800-1779912000@hsg-forchheim.de
SUMMARY:Schießtraining
DESCRIPTION:
URL:https://hsg-forchheim.de/termin/schiesstraining-171/
CATEGORIES:Schießtraining
END:VEVENT
BEGIN:VEVENT
DTSTART;TZID=Europe/Berlin:20260528T180000
DTEND;TZID=Europe/Berlin:20260528T200000
DTSTAMP:20260421T104835
CREATED:20260208T104310Z
LAST-MODIFIED:20260208T104310Z
UID:1843-1779991200-1779998400@hsg-forchheim.de
SUMMARY:Neuschützentraining
DESCRIPTION:
URL:https://hsg-forchheim.de/termin/neuschuetzentraining-21/
CATEGORIES:Schießtraining
END:VEVENT
BEGIN:VEVENT
DTSTART;VALUE=DATE:20260529
DTEND;VALUE=DATE:20260530
DTSTAMP:20260421T104835
CREATED:20260208T104311Z
LAST-MODIFIED:20260208T104311Z
UID:1844-1780012800-1780099199@hsg-forchheim.de
SUMMARY:Tell Schützen
DESCRIPTION:
URL:https://hsg-forchheim.de/termin/tell-schuetzen-58/
CATEGORIES:Extern
END:VEVENT
BEGIN:VEVENT
DTSTART;TZID=Europe/Berlin:20260531T080000
DTEND;TZID=Europe/Berlin:20260531T110000
DTSTAMP:20260421T104835
CREATED:20260208T104311Z
LAST-MODIFIED:20260208T104311Z
UID:1845-1780214400-1780225200@hsg-forchheim.de
SUMMARY:Schießtraining
DESCRIPTION:
URL:https://hsg-forchheim.de/termin/schiesstraining-172/
CATEGORIES:Schießtraining
END:VEVENT
BEGIN:VEVENT
DTSTART;VALUE=DATE:20260601
DTEND;VALUE=DATE:20260602
DTSTAMP:20260421T104835
CREATED:20260208T104325Z
LAST-MODIFIED:20260208T104325Z
UID:1846-1780272000-1780358399@hsg-forchheim.de
SUMMARY:GUNBOYZ
DESCRIPTION:
URL:https://hsg-forchheim.de/termin/gunboyz-61/
CATEGORIES:Extern
END:VEVENT
BEGIN:VEVENT
DTSTART;VALUE=DATE:20260602
DTEND;VALUE=DATE:20260603
DTSTAMP:20260421T104835
CREATED:20260208T104326Z
LAST-MODIFIED:20260208T104326Z
UID:1847-1780358400-1780444799@hsg-forchheim.de
SUMMARY:Guns ’n’ Rifles
DESCRIPTION:
URL:https://hsg-forchheim.de/termin/guns-n-rifles-62/
CATEGORIES:Extern
END:VEVENT
BEGIN:VEVENT
DTSTART;TZID=Europe/Berlin:20260603T180000
DTEND;TZID=Europe/Berlin:20260603T200000
DTSTAMP:20260421T104835
CREATED:20260208T104326Z
LAST-MODIFIED:20260208T104326Z
UID:1848-1780509600-1780516800@hsg-forchheim.de
SUMMARY:Schießtraining
DESCRIPTION:
URL:https://hsg-forchheim.de/termin/schiesstraining-173/
CATEGORIES:Schießtraining
END:VEVENT
BEGIN:VEVENT
DTSTART;TZID=Europe/Berlin:20260604T180000
DTEND;TZID=Europe/Berlin:20260604T200000
DTSTAMP:20260421T104835
CREATED:20260208T104326Z
LAST-MODIFIED:20260208T104326Z
UID:1849-1780596000-1780603200@hsg-forchheim.de
SUMMARY:Neuschützentraining
DESCRIPTION:
URL:https://hsg-forchheim.de/termin/neuschuetzentraining-22/
CATEGORIES:Schießtraining
END:VEVENT
BEGIN:VEVENT
DTSTART;VALUE=DATE:20260605
DTEND;VALUE=DATE:20260606
DTSTAMP:20260421T104835
CREATED:20260208T104327Z
LAST-MODIFIED:20260208T104327Z
UID:1850-1780617600-1780703999@hsg-forchheim.de
SUMMARY:Tell Schützen
DESCRIPTION:
URL:https://hsg-forchheim.de/termin/tell-schuetzen-59/
CATEGORIES:Extern
END:VEVENT
BEGIN:VEVENT
DTSTART;VALUE=DATE:20260606
DTEND;VALUE=DATE:20260607
DTSTAMP:20260421T104835
CREATED:20260208T104526Z
LAST-MODIFIED:20260208T104526Z
UID:1851-1780704000-1780790399@hsg-forchheim.de
SUMMARY:Arbeitsdienst
DESCRIPTION:
URL:https://hsg-forchheim.de/termin/arbeitsdienst-14/
CATEGORIES:Arbeitsdienst
END:VEVENT
BEGIN:VEVENT
DTSTART;TZID=Europe/Berlin:20260606T183000
DTEND;TZID=Europe/Berlin:20260606T233000
DTSTAMP:20260421T104835
CREATED:20260414T173956Z
LAST-MODIFIED:20260414T173956Z
UID:1964-1780770600-1780788600@hsg-forchheim.de
SUMMARY:75. Bayerischer Landesschützentag: Einladung zum großen Festabend
DESCRIPTION:Sehr geehrter 1. Schützenmeister\,\nlieber Roland\, \nwir möchten die Schützenfamilie des/der Kgl.priv.HSG Forchheim ebenso herzlich zum Höhepunkt des 75. Bayerischen Landesschützentages\, den großen Festabend\, am Samstag\, den 06. Juni 2026\, um 18:30 Uhr in den Ziegelbau des Welcome Kongresshotels in Bamberg einladen. \n  \nKulinarisch erwartet euch ein reichhaltiges fränkisches 4-Gänge-Menü in Buffetform\, das keine Wünsche offenlässt. Das Buffet umfasst unter anderem eine vielfältige Salatauswahl\, fränkische Spezialitäten sowie warme Hauptgerichte wie Schweinekrustenbraten mit Biersauce und Klößen\, gebratenes Forellenfilet oder Spinatknödel. Abgerundet wird das Menü durch leckere Desserts wie Bayrisch Creme und Apfelküchle mit Vanille-Zimtsauce. \nAuch das Unterhaltungsprogramm verspricht einen abwechslungsreichen Abend: \nDie oberfränkische Partyband „Frankenfeuer“ sorgt mit ihrem vielseitigen Repertoire aus Klassikern\, aktuellen Hits und Partymusik für beste Stimmung und eine volle Tanzfläche. Ein besonderer Gast des Abends ist Bernd Händel\, vielen bekannt als Büttenredner\, Stimmenimitator und ehemaliger Sitzungspräsident der Fernsehsendung Fastnacht in Franken. Mit seinem Auftritt wird er sicherlich für viele humorvolle Momente sorgen. \nDarüber hinaus erwarten euch weitere Programmpunkte: \nDer beidhändige Schnellzeichner Clemens Steinhauer fertigt vor Ort beeindruckende Zeichnungen an\, eine Fotobox hält schöne Erinnerungen fest und DJ Jens Sommer sorgt im angrenzenden Saal zusätzlich für musikalische Unterhaltung. \nDer Preis für den Festabend mit Sitzplatz und Buffet beträgt 49\,- Euro (excl. Getränke) pro Person.\nAlternativ können Laufkarten ohne Sitzplatz und ohne Buffet für 12\,- Euro erworben werden. \nDa nur noch wenige Karten verfügbar sind\, heißt es schnell sein und sich noch Plätze sichern. Die Karten können bequem online unter https://www.landesschuetzentag.de/formular/anmeldung-festabend bestellt werden. \nWir würden uns sehr freuen\, viele von euch zu diesem besonderen Festabend in Bamberg begrüßen zu dürfen um gemeinsam in festlicher Atmosphäre unseren Landesschützentag zu feiern\, zu genießen und einen unvergesslichen Abend miteinander zu verbringen. \nMit oberfränkischen Schützengrüßen \n  \nEuer\nAlexander Hummel \n——————————————-\nSchützenbezirk Oberfranken im BSSB\n1. BezSM Alexander Hummel\nFabrikstr. 30a\n96175 Pettstadt  \n Telefon:   +49 9502 923852\nTelefax:   +49 9502 923851\nMobil:     +49 171 1526181  \n www        http://www.landesschuetzentag.de\n www        http://www.bssb-ofr.de \n mail       mailto:info@landesschuetzentag.de\nmail       mailto:a.hummel@bssb-ofr.de\n——————————————-
URL:https://hsg-forchheim.de/termin/75-bayerischer-landesschuetzentag-einladung-zum-grossen-festabend/
LOCATION:Ziegelbau des Welcome Kongresshotels in Bamberg
END:VEVENT
BEGIN:VEVENT
DTSTART;TZID=Europe/Berlin:20260607T080000
DTEND;TZID=Europe/Berlin:20260607T110000
DTSTAMP:20260421T104835
CREATED:20260208T104527Z
LAST-MODIFIED:20260208T104527Z
UID:1852-1780819200-1780830000@hsg-forchheim.de
SUMMARY:Schießtraining
DESCRIPTION:
URL:https://hsg-forchheim.de/termin/schiesstraining-174/
CATEGORIES:Schießtraining
END:VEVENT
BEGIN:VEVENT
DTSTART;TZID=Europe/Berlin:20260607T093000
DTEND;TZID=Europe/Berlin:20260607T170000
DTSTAMP:20260421T104835
CREATED:20260414T174157Z
LAST-MODIFIED:20260414T174157Z
UID:1967-1780824600-1780851600@hsg-forchheim.de
SUMMARY:75. Bayerischer Landesschützentag: Einladung zum Festgottesdienst\, Schützenfestzug und Abschlusskundgebung
DESCRIPTION:Sehr geehrter 1. Schützenmeister\,\nlieber Roland\, \nin 64 Tagen ist es so weit- wir laden heute die Schützenfamilie des/der Kgl.priv.HSG Forchheim herzlich zum Abschluss des 75. Bayerischen Landesschützentags am Sonntag\, den 07. Juni 2026\, mit Festgottesdienst\, großem Schützenfestzug und Abschlusskundgebung im Herzen der Domstadt ein. \nDer Landesschützentag zählt zu den wichtigsten Veranstaltungen unseres Landesverbandes und bringt Schützinnen und Schützen aus dem gesamten Freistaat zusammen. Es ist uns eine große Freude\, dieses bedeutende Ereignis in unserer oberfränkischen Heimat ausrichten zu dürfen und dabei unsere Vereine und Gesellschaften den Gästen aus ganz Bayern zu präsentieren. \nWir beginnen um 9.30 Uhr mit dem Festgottesdienst im Bamberger Kaiserdom (Sitzplätze begrenzt).  \nIm Anschluss startet um 11:00 Uhr (Aufstellung am Domplatz) unser großer Schützenfestzug durch die Bamberger Altstadt. Begleitet von Musikkapellen ziehen wir gemeinsam durch die historische Altstadt zum Maximiliansplatz. Dort findet ab 11:30 Uhr die Abschlussveranstaltung statt. In diesem Rahmen erfolgt auch die Siegerehrung unseres Jubiläumsschießens\, das bereits in allen vier Gauen des Schützenbezirks Oberfranken ausgetragen wurde. \nFür das leibliche Wohl ist bestens gesorgt\, denn wir werden auf dem Maxplatz Teil des italienischen Genussfests „Festa Italica“ sein\, wo wir im „fränkischen Rom“ neben italienischen Köstlichkeiten auch heimisches Bier aus dem Bamberger Landkreis genießen werden. \nWir würden uns sehr freuen\, wenn möglichst viele Vereine mit ihren Fahnenabordnungen teilnehmen und dadurch unsere fränkische Schützentraditionen nach außen sichtbar machen. \nDie Anmeldung zur Teilnahme und die etwaige Vorbestellung vergünstigter Getränkegutscheine ist bis spätestens Freitag\, 01. Mai\, per Webformular (Wichtig: Abfrage für funktionale Cookies bestätigen) möglich: \nhttps://www.landesschuetzentag.de/formular/anmeldung-vereine \nWir freuen uns auf das Wiedersehen unserer oberfränkischen Vereine und Gesellschaften mit ihren farbenprächtigen Vereinsfahnen/-standarten sowie ihrer Vereinstäfelchen und wünschen ein frohes\, gesegnetes Osterfest. \nMit oberfränkischen Schützengrüßen \nEuer\nAlexander Hummel \n——————————————-\nSchützenbezirk Oberfranken im BSSB\n1. BezSM Alexander Hummel\nFabrikstr. 30a\n96175 Pettstadt  \n Telefon:   +49 9502 923852\nTelefax:   +49 9502 923851\nMobil:     +49 171 1526181  \n www        http://www.landesschuetzentag.de\n www        http://www.bssb-ofr.de \n mail       mailto:info@landesschuetzentag.de\nmail       mailto:a.hummel@bssb-ofr.de\n——————————————-
URL:https://hsg-forchheim.de/termin/75-bayerischer-landesschuetzentag-einladung-zum-festgottesdienst-schuetzenfestzug-und-abschlusskundgebung/
LOCATION:Bamberger Kaiserdom
CATEGORIES:Sonstige Veranstaltung
END:VEVENT
BEGIN:VEVENT
DTSTART;VALUE=DATE:20260608
DTEND;VALUE=DATE:20260609
DTSTAMP:20260421T104835
CREATED:20260208T104527Z
LAST-MODIFIED:20260208T104527Z
UID:1853-1780876800-1780963199@hsg-forchheim.de
SUMMARY:GUNBOYZ
DESCRIPTION:
URL:https://hsg-forchheim.de/termin/gunboyz-62/
CATEGORIES:Extern
END:VEVENT
BEGIN:VEVENT
DTSTART;VALUE=DATE:20260609
DTEND;VALUE=DATE:20260610
DTSTAMP:20260421T104835
CREATED:20260208T104527Z
LAST-MODIFIED:20260208T104527Z
UID:1854-1780963200-1781049599@hsg-forchheim.de
SUMMARY:Guns ’n’ Rifles
DESCRIPTION:
URL:https://hsg-forchheim.de/termin/guns-n-rifles-63/
CATEGORIES:Extern
END:VEVENT
BEGIN:VEVENT
DTSTART;TZID=Europe/Berlin:20260610T180000
DTEND;TZID=Europe/Berlin:20260610T200000
DTSTAMP:20260421T104835
CREATED:20260208T104528Z
LAST-MODIFIED:20260208T104528Z
UID:1855-1781114400-1781121600@hsg-forchheim.de
SUMMARY:Schießtraining
DESCRIPTION:
URL:https://hsg-forchheim.de/termin/schiesstraining-175/
CATEGORIES:Schießtraining
END:VEVENT
BEGIN:VEVENT
DTSTART;TZID=Europe/Berlin:20260611T180000
DTEND;TZID=Europe/Berlin:20260611T200000
DTSTAMP:20260421T104835
CREATED:20260208T104727Z
LAST-MODIFIED:20260208T104727Z
UID:1856-1781200800-1781208000@hsg-forchheim.de
SUMMARY:Neuschützentraining
DESCRIPTION:
URL:https://hsg-forchheim.de/termin/neuschuetzentraining-23/
CATEGORIES:Schießtraining
END:VEVENT
BEGIN:VEVENT
DTSTART;VALUE=DATE:20260612
DTEND;VALUE=DATE:20260613
DTSTAMP:20260421T104835
CREATED:20260208T104728Z
LAST-MODIFIED:20260208T104728Z
UID:1857-1781222400-1781308799@hsg-forchheim.de
SUMMARY:Tell Schützen
DESCRIPTION:
URL:https://hsg-forchheim.de/termin/tell-schuetzen-60/
CATEGORIES:Extern
END:VEVENT
BEGIN:VEVENT
DTSTART;TZID=Europe/Berlin:20260614T080000
DTEND;TZID=Europe/Berlin:20260614T110000
DTSTAMP:20260421T104835
CREATED:20260208T104728Z
LAST-MODIFIED:20260208T104728Z
UID:1858-1781424000-1781434800@hsg-forchheim.de
SUMMARY:Schießtraining
DESCRIPTION:
URL:https://hsg-forchheim.de/termin/schiesstraining-176/
CATEGORIES:Schießtraining
END:VEVENT
END:VCALENDAR